BEGIN:VCALENDAR
VERSION:2.0
PRODID:-//SportsChamp - ECPv4.7.3//NONSGML v1.0//EN
CALSCALE:GREGORIAN
METHOD:PUBLISH
X-WR-CALNAME:SportsChamp
X-ORIGINAL-URL:https://sportschamp.co.in
X-WR-CALDESC:Events for SportsChamp
BEGIN:VEVENT
DTSTART;TZID=Europe/London:20201009T000000
DTEND;TZID=Europe/London:20201009T000000
DTSTAMP:20260424T114400
CREATED:20201009T062034Z
LAST-MODIFIED:20201009T062645Z
UID:1572-1602201600-1602201600@sportschamp.co.in
SUMMARY:Sports Champ Talk Show
DESCRIPTION:\nRegister Now  \n 
URL:https://sportschamp.co.in/event/sports-champ-talk-show-episode-2-2/
CATEGORIES:Talk Show Event
ATTACH;FMTTYPE=image/jpeg:https://sportschamp.co.in/wp-content/uploads/2020/10/5044C8B0-34F3-4049-8456-951D2D492003.jpeg
END:VEVENT
END:VCALENDAR